BEGIN:VCALENDAR
METHOD:PUBLISH
CALSCALE:GREGORIAN
PRODID:Elbphilharmonie
VERSION:2.0
BEGIN:VTIMEZONE
TZID:Europe/Berlin
BEGIN:DAYLIGHT
TZOFFSETFROM:+0100
TZOFFSETTO:+0200
TZNAME:CEST
DTSTART:20200329T010000
RRULE:FREQ=YEARLY;INTERVAL=1;BYDAY=-1SU;BYMONTH=3
END:DAYLIGHT
BEGIN:STANDARD
TZOFFSETFROM:+0200
TZOFFSETTO:+0100
TZNAME:CET
DTSTART:20201025T010000
RRULE:FREQ=YEARLY;INTERVAL=1;BYDAY=-1SU;BYMONTH=10
END:STANDARD
END:VTIMEZONE
BEGIN:VEVENT
DTSTAMP:20260423T133900Z
DTSTART:20261201T190000Z
DTEND:20261201T211000Z
LOCATION:Elbphilharmonie Großer Saal
SUMMARY:Yunchan Lim\, piano
DESCRIPTION:Performers\nYunchan Lim: piano\n\nProgramme\nWolfgang Amadeus 
 Mozart\nSonate für Klavier Es-Dur KV 189g\nSonata for Piano in B-flat maj
 or\, KV 315c\n– Interval – \nWolfgang Amadeus Mozart\nSonate für Klav
 ier D-Dur KV 284c\nSonate für Klavier C-Dur KV 284b\nSonata for Piano in 
 A major\, KV 300i
UID:event28167@Elbphilharmonie.de
URL:https://www.elbphilharmonie.de/en/whats-on/yunchan-lim-piano/28167
END:VEVENT
END:VCALENDAR
