BEGIN:VCALENDAR
METHOD:PUBLISH
CALSCALE:GREGORIAN
PRODID:Elbphilharmonie
VERSION:2.0
BEGIN:VTIMEZONE
TZID:Europe/Berlin
BEGIN:DAYLIGHT
TZOFFSETFROM:+0100
TZOFFSETTO:+0200
TZNAME:CEST
DTSTART:20200329T010000
RRULE:FREQ=YEARLY;INTERVAL=1;BYDAY=-1SU;BYMONTH=3
END:DAYLIGHT
BEGIN:STANDARD
TZOFFSETFROM:+0200
TZOFFSETTO:+0100
TZNAME:CET
DTSTART:20201025T010000
RRULE:FREQ=YEARLY;INTERVAL=1;BYDAY=-1SU;BYMONTH=10
END:STANDARD
END:VTIMEZONE
BEGIN:VEVENT
DTSTAMP:20260423T142700Z
DTSTART:20261010T100000Z
DTEND:20261010T130000Z
LOCATION:Elbphilharmonie Kaistudio 6
SUMMARY:Workshop: Kreativ Sound Safari
DESCRIPTION:
UID:event28536@Elbphilharmonie.de
URL:https://www.elbphilharmonie.de/en/whats-on/workshop-kreativ-sound-safa
 ri/28536
END:VEVENT
END:VCALENDAR
