BEGIN:VCALENDAR
METHOD:PUBLISH
CALSCALE:GREGORIAN
PRODID:Elbphilharmonie
VERSION:2.0
BEGIN:VTIMEZONE
TZID:Europe/Berlin
BEGIN:DAYLIGHT
TZOFFSETFROM:+0100
TZOFFSETTO:+0200
TZNAME:CEST
DTSTART:20200329T010000
RRULE:FREQ=YEARLY;INTERVAL=1;BYDAY=-1SU;BYMONTH=3
END:DAYLIGHT
BEGIN:STANDARD
TZOFFSETFROM:+0200
TZOFFSETTO:+0100
TZNAME:CET
DTSTART:20201025T010000
RRULE:FREQ=YEARLY;INTERVAL=1;BYDAY=-1SU;BYMONTH=10
END:STANDARD
END:VTIMEZONE
BEGIN:VEVENT
DTSTAMP:20260423T121000Z
DTSTART:20261024T080000Z
DTEND:20261024T150000Z
LOCATION:Elbphilharmonie Kaistudio 1
SUMMARY:Workshop: Kosmos Flaidrum
DESCRIPTION:
UID:event28655@Elbphilharmonie.de
URL:https://www.elbphilharmonie.de/en/whats-on/workshop-kosmos-flaidrum/28
 655
END:VEVENT
END:VCALENDAR
