BEGIN:VCALENDAR
METHOD:PUBLISH
CALSCALE:GREGORIAN
PRODID:Elbphilharmonie
VERSION:2.0
BEGIN:VTIMEZONE
TZID:Europe/Berlin
BEGIN:DAYLIGHT
TZOFFSETFROM:+0100
TZOFFSETTO:+0200
TZNAME:CEST
DTSTART:20200329T010000
RRULE:FREQ=YEARLY;INTERVAL=1;BYDAY=-1SU;BYMONTH=3
END:DAYLIGHT
BEGIN:STANDARD
TZOFFSETFROM:+0200
TZOFFSETTO:+0100
TZNAME:CET
DTSTART:20201025T010000
RRULE:FREQ=YEARLY;INTERVAL=1;BYDAY=-1SU;BYMONTH=10
END:STANDARD
END:VTIMEZONE
BEGIN:VEVENT
DTSTAMP:20260423T115400Z
DTSTART:20270410T170000Z
DTEND:20270410T194500Z
LOCATION:Elbphilharmonie Großer Saal
SUMMARY:Weinberg: Die Passagierin / Mirga Gražinytė-Tyla
DESCRIPTION:Performers\nCity of Birmingham Symphony Orchestra\nCBSO Chorus
 \nDaveda Karanas: Lisa\nNikolai Schukoff: Walter\nAdrienn Miksch: Martha\n
 Iurii Samoilov: Tadeusz\nAnna Gorbachyova-Ogilvie: Katja\nLidia Vinyes Cur
 tis: Krzystina\nMarta Fontanals-Simmons: Vlasta\nNadezhda Karyazina: Hanna
 h\nLiuba Sokolova: Bronka\nHelen Field: Alte\nGéraldine Dulex: Female Sup
 ervisor and Kapo\nHrólfur Sæmundsson: Three SS-Men\nMarcell Bakonyi: Thr
 ee SS-Men\nAlbert Casals: Three SS-Men\nconductor: Mirga Gražinytė-Tyla\
 n\nProgramme\nMieczysław Weinberg\nThe Passenger / Opera in Two Acts\nKon
 zertante Aufführung in ... Sprache mit deutschen Übertiteln
UID:event28394@Elbphilharmonie.de
URL:https://www.elbphilharmonie.de/en/whats-on/weinberg-die-passagierin-mi
 rga-grazinyte-tyla/28394
END:VEVENT
END:VCALENDAR
