BEGIN:VCALENDAR
METHOD:PUBLISH
CALSCALE:GREGORIAN
PRODID:Elbphilharmonie
VERSION:2.0
BEGIN:VTIMEZONE
TZID:Europe/Berlin
BEGIN:DAYLIGHT
TZOFFSETFROM:+0100
TZOFFSETTO:+0200
TZNAME:CEST
DTSTART:20200329T010000
RRULE:FREQ=YEARLY;INTERVAL=1;BYDAY=-1SU;BYMONTH=3
END:DAYLIGHT
BEGIN:STANDARD
TZOFFSETFROM:+0200
TZOFFSETTO:+0100
TZNAME:CET
DTSTART:20201025T010000
RRULE:FREQ=YEARLY;INTERVAL=1;BYDAY=-1SU;BYMONTH=10
END:STANDARD
END:VTIMEZONE
BEGIN:VEVENT
DTSTAMP:20260424T114400Z
DTSTART:20261225T170000Z
DTEND:20261225T200000Z
LOCATION:Laeiszhalle Großer Saal
SUMMARY:Weihnachtskonzert der Symphoniker Hamburg / Adrian Iliescu
DESCRIPTION:Performers\nSymphoniker Hamburg\ndirector: Adrian Iliescu\n\nP
 rogramme\nJohann Sebastian Bach\nBrandenburg Concerto No. 3 in G major\, B
 WV 1048\nEdvard Grieg\nHolberg Suite / Suite in olden style for string orc
 hestra\, Op. 40\n– Interval – \nLudwig van Beethoven\nSymphony No. 1 i
 n C major\, Op. 21
UID:event28073@Elbphilharmonie.de
URL:https://www.elbphilharmonie.de/en/whats-on/weihnachtskonzert-der-symph
 oniker-hamburg-adrian-iliescu/28073
END:VEVENT
END:VCALENDAR
