BEGIN:VCALENDAR
METHOD:PUBLISH
CALSCALE:GREGORIAN
PRODID:Elbphilharmonie
VERSION:2.0
BEGIN:VTIMEZONE
TZID:Europe/Berlin
BEGIN:DAYLIGHT
TZOFFSETFROM:+0100
TZOFFSETTO:+0200
TZNAME:CEST
DTSTART:20200329T010000
RRULE:FREQ=YEARLY;INTERVAL=1;BYDAY=-1SU;BYMONTH=3
END:DAYLIGHT
BEGIN:STANDARD
TZOFFSETFROM:+0200
TZOFFSETTO:+0100
TZNAME:CET
DTSTART:20201025T010000
RRULE:FREQ=YEARLY;INTERVAL=1;BYDAY=-1SU;BYMONTH=10
END:STANDARD
END:VTIMEZONE
BEGIN:VEVENT
DTSTAMP:20260423T121100Z
DTSTART:20270205T190000Z
DTEND:20270205T210000Z
LOCATION:Elbphilharmonie Großer Saal
SUMMARY:WDR Sinfonieorchester / Valerie Fritz / Elena Schwarz
DESCRIPTION:Performers\nWDR Sinfonieorchester\nValerie Fritz: violoncello\
 nconductor: Elena Schwarz\n\nProgramme\nLiza Lim\nA Sutured World / Konzer
 t für Violoncello und Orchester\nMiroslav Srnka\nSuperorganisms\nThe conc
 ert takes place without an interval.
UID:event28174@Elbphilharmonie.de
URL:https://www.elbphilharmonie.de/en/whats-on/wdr-sinfonieorchester-valer
 ie-fritz-elena-schwarz/28174
END:VEVENT
END:VCALENDAR
