BEGIN:VCALENDAR
METHOD:PUBLISH
CALSCALE:GREGORIAN
PRODID:Elbphilharmonie
VERSION:2.0
BEGIN:VTIMEZONE
TZID:Europe/Berlin
BEGIN:DAYLIGHT
TZOFFSETFROM:+0100
TZOFFSETTO:+0200
TZNAME:CEST
DTSTART:20200329T010000
RRULE:FREQ=YEARLY;INTERVAL=1;BYDAY=-1SU;BYMONTH=3
END:DAYLIGHT
BEGIN:STANDARD
TZOFFSETFROM:+0200
TZOFFSETTO:+0100
TZNAME:CET
DTSTART:20201025T010000
RRULE:FREQ=YEARLY;INTERVAL=1;BYDAY=-1SU;BYMONTH=10
END:STANDARD
END:VTIMEZONE
BEGIN:VEVENT
DTSTAMP:20260422T110600Z
DTSTART:20260616T180000Z
DTEND:20260616T200000Z
LOCATION:Laeiszhalle Kleiner Saal
SUMMARY:Warhaus feat. Julien Libeer
DESCRIPTION:Performers\nWarhaus: singer-songwriter\nJulien Libeer: piano\n
UID:event28828@Elbphilharmonie.de
URL:https://www.elbphilharmonie.de/en/whats-on/warhaus-feat-julien-libeer/
 28828
END:VEVENT
END:VCALENDAR
