BEGIN:VCALENDAR
METHOD:PUBLISH
CALSCALE:GREGORIAN
PRODID:Elbphilharmonie
VERSION:2.0
BEGIN:VTIMEZONE
TZID:Europe/Berlin
BEGIN:DAYLIGHT
TZOFFSETFROM:+0100
TZOFFSETTO:+0200
TZNAME:CEST
DTSTART:20200329T010000
RRULE:FREQ=YEARLY;INTERVAL=1;BYDAY=-1SU;BYMONTH=3
END:DAYLIGHT
BEGIN:STANDARD
TZOFFSETFROM:+0200
TZOFFSETTO:+0100
TZNAME:CET
DTSTART:20201025T010000
RRULE:FREQ=YEARLY;INTERVAL=1;BYDAY=-1SU;BYMONTH=10
END:STANDARD
END:VTIMEZONE
BEGIN:VEVENT
DTSTAMP:20260423T214000Z
DTSTART:20261114T190000Z
DTEND:20261114T204500Z
LOCATION:Elbphilharmonie Großer Saal
SUMMARY:Utopia / Daniel Lozakovich / Teodor Currentzis
DESCRIPTION:Performers\nUtopia\nDaniel Lozakovich: violin\nconductor: Teod
 or Currentzis\n\nProgramme\nDmitri Schostakowitsch\nKonzert für Violine u
 nd Orchester Nr. 1 a-Moll op. 77\n– Interval – \nIgor Strawinsky\nThe
  Rite of Spring (Le sacre du printemps) / Pictures of Pagan Russia in Two 
 Parts
UID:event27954@Elbphilharmonie.de
URL:https://www.elbphilharmonie.de/en/whats-on/utopia-daniel-lozakovich-te
 odor-currentzis/27954
END:VEVENT
END:VCALENDAR
