BEGIN:VCALENDAR
METHOD:PUBLISH
CALSCALE:GREGORIAN
PRODID:Elbphilharmonie
VERSION:2.0
BEGIN:VTIMEZONE
TZID:Europe/Berlin
BEGIN:DAYLIGHT
TZOFFSETFROM:+0100
TZOFFSETTO:+0200
TZNAME:CEST
DTSTART:20200329T010000
RRULE:FREQ=YEARLY;INTERVAL=1;BYDAY=-1SU;BYMONTH=3
END:DAYLIGHT
BEGIN:STANDARD
TZOFFSETFROM:+0200
TZOFFSETTO:+0100
TZNAME:CET
DTSTART:20201025T010000
RRULE:FREQ=YEARLY;INTERVAL=1;BYDAY=-1SU;BYMONTH=10
END:STANDARD
END:VTIMEZONE
BEGIN:VEVENT
DTSTAMP:20260423T115400Z
DTSTART:20261109T143000Z
DTEND:20261109T153000Z
LOCATION:Kulturpunkt im Barmbek Basch
SUMMARY:Twinkle Concert XS / Elfi Baby Concert
DESCRIPTION:Performers\nEnsemble Resonanz\nUlla Kulenkamp: props\nGregor D
 ierck\, Charlotte Beinhauer: Konzept\n\nProgramme\nKonzerte für Schwanger
 e und Eltern mit Babys bis 1 Jahr\n»Wetterwunder«
UID:event28358@Elbphilharmonie.de
URL:https://www.elbphilharmonie.de/en/whats-on/twinkle-concert-xs-elfi-bab
 y-concert/28358
END:VEVENT
END:VCALENDAR
