BEGIN:VCALENDAR
METHOD:PUBLISH
CALSCALE:GREGORIAN
PRODID:Elbphilharmonie
VERSION:2.0
BEGIN:VTIMEZONE
TZID:Europe/Berlin
BEGIN:DAYLIGHT
TZOFFSETFROM:+0100
TZOFFSETTO:+0200
TZNAME:CEST
DTSTART:20200329T010000
RRULE:FREQ=YEARLY;INTERVAL=1;BYDAY=-1SU;BYMONTH=3
END:DAYLIGHT
BEGIN:STANDARD
TZOFFSETFROM:+0200
TZOFFSETTO:+0100
TZNAME:CET
DTSTART:20201025T010000
RRULE:FREQ=YEARLY;INTERVAL=1;BYDAY=-1SU;BYMONTH=10
END:STANDARD
END:VTIMEZONE
BEGIN:VEVENT
DTSTAMP:20260423T115500Z
DTSTART:20261121T130000Z
DTEND:20261121T140000Z
LOCATION:Elbphilharmonie Kleiner Saal
SUMMARY:Twinkle Concert XL / It Is Time
DESCRIPTION:Performers\nStudio Dan\nSophia Goidinger-Koch: violin\nMaiken 
 Beer: violoncello\nViola Falb: saxophone\, bass clarinet\nDaniel Riegler: 
 concept\, dramaturgy\, musical direction\nDamaris Richerts: trumpet\nRapha
 el Meinhart: percussion\nKirstin Schwab: performance\nHelena Matzawrakos: 
 performance\nManfred Weissensteiner: concept\, stage direction\nDavid Vale
 ntek: concept\, assistant director\nOxana Omelchuk: composition\nJohannes 
 Schrettle: text\nMilena Czernovsky: stage\nWerner Angerer: sound engineeri
 ng\nTom Grassegger: Lichtregie\n\nProgramme\nMusical theatre for children 
 aged 8 and above with music by Oxana Omelchuk\nComposition commissioned by
  Studio Dan\, financed by the Ernst von Siemens Musikstiftung
UID:event28442@Elbphilharmonie.de
URL:https://www.elbphilharmonie.de/en/whats-on/twinkle-concert-xl-it-is-ti
 me/28442
END:VEVENT
END:VCALENDAR
