BEGIN:VCALENDAR
METHOD:PUBLISH
CALSCALE:GREGORIAN
PRODID:Elbphilharmonie
VERSION:2.0
BEGIN:VTIMEZONE
TZID:Europe/Berlin
BEGIN:DAYLIGHT
TZOFFSETFROM:+0100
TZOFFSETTO:+0200
TZNAME:CEST
DTSTART:20200329T010000
RRULE:FREQ=YEARLY;INTERVAL=1;BYDAY=-1SU;BYMONTH=3
END:DAYLIGHT
BEGIN:STANDARD
TZOFFSETFROM:+0200
TZOFFSETTO:+0100
TZNAME:CET
DTSTART:20201025T010000
RRULE:FREQ=YEARLY;INTERVAL=1;BYDAY=-1SU;BYMONTH=10
END:STANDARD
END:VTIMEZONE
BEGIN:VEVENT
DTSTAMP:20260423T145800Z
DTSTART:20261010T130000Z
DTEND:20261010T134500Z
LOCATION:Elbphilharmonie Kaistudio 1
SUMMARY:Twinkle Concert S / Obotaqua
DESCRIPTION:Performers\nSyriab Duo\nFriedrike Kayser: Oboe\, Englischhorn\
 nIbrahim Bajo: kanun\nJin Lee: dance\nCeren Oran: concept\, stage directio
 n\, choreography\nSigrid Wurzinger: props\, costume\nFranziska Stolz: musi
 c dramaturgy\, concept\n\nProgramme\nMusik- und Tanztheater\, das scheinba
 r ferne Klangwelten fantasievoll zusammenbringt
UID:event28294@Elbphilharmonie.de
URL:https://www.elbphilharmonie.de/en/whats-on/twinkle-concert-s-obotaqua/
 28294
END:VEVENT
END:VCALENDAR
