BEGIN:VCALENDAR
METHOD:PUBLISH
CALSCALE:GREGORIAN
PRODID:Elbphilharmonie
VERSION:2.0
BEGIN:VTIMEZONE
TZID:Europe/Berlin
BEGIN:DAYLIGHT
TZOFFSETFROM:+0100
TZOFFSETTO:+0200
TZNAME:CEST
DTSTART:20200329T010000
RRULE:FREQ=YEARLY;INTERVAL=1;BYDAY=-1SU;BYMONTH=3
END:DAYLIGHT
BEGIN:STANDARD
TZOFFSETFROM:+0200
TZOFFSETTO:+0100
TZNAME:CET
DTSTART:20201025T010000
RRULE:FREQ=YEARLY;INTERVAL=1;BYDAY=-1SU;BYMONTH=10
END:STANDARD
END:VTIMEZONE
BEGIN:VEVENT
DTSTAMP:20260423T121100Z
DTSTART:20270109T140000Z
DTEND:20270109T144500Z
LOCATION:Elbphilharmonie Kaistudio 1
SUMMARY:Twinkle Concert S / In Omis Garten (In Granny’s Garden)
DESCRIPTION:Performers\nJuan Carlos Díaz Bueno: transverse flute\nRaphael
  Brunner: accordion\nStefan Greussing: percussion\nSerena Galante: perform
 ance\nDaniel Esteban: performance\nDan Tanson: stage direction\nAlexandra 
 Lichtenberger: costume design\n\nProgramme\nFrische Gartenluft weht durch 
 den Konzertsaal und lässt großartige Musik schnuppern
UID:event28371@Elbphilharmonie.de
URL:https://www.elbphilharmonie.de/en/whats-on/twinkle-concert-s-in-omis-g
 arten-in-grannys-garden/28371
END:VEVENT
END:VCALENDAR
