BEGIN:VCALENDAR
METHOD:PUBLISH
CALSCALE:GREGORIAN
PRODID:Elbphilharmonie
VERSION:2.0
BEGIN:VTIMEZONE
TZID:Europe/Berlin
BEGIN:DAYLIGHT
TZOFFSETFROM:+0100
TZOFFSETTO:+0200
TZNAME:CEST
DTSTART:20200329T010000
RRULE:FREQ=YEARLY;INTERVAL=1;BYDAY=-1SU;BYMONTH=3
END:DAYLIGHT
BEGIN:STANDARD
TZOFFSETFROM:+0200
TZOFFSETTO:+0100
TZNAME:CET
DTSTART:20201025T010000
RRULE:FREQ=YEARLY;INTERVAL=1;BYDAY=-1SU;BYMONTH=10
END:STANDARD
END:VTIMEZONE
BEGIN:VEVENT
DTSTAMP:20260423T233200Z
DTSTART:20270403T120000Z
DTEND:20270403T124500Z
LOCATION:Elbphilharmonie Kaistudio 1
SUMMARY:Twinkle Concert M / Schnick
DESCRIPTION:Performers\nCatriona McKay: celtic harp\nChristopher Stout: fi
 ddle\nSerena Galante: play and movement\nDaniel Esteban: play and movement
 \nDan Tanson: stage direction\nstage: Julie Conrad\nAlexandra Lichtenberge
 r: costume design\n\nProgramme\nSzenisches Konzert mit Interaktion
UID:event28320@Elbphilharmonie.de
URL:https://www.elbphilharmonie.de/en/whats-on/twinkle-concert-m-schnick/2
 8320
END:VEVENT
END:VCALENDAR
