BEGIN:VCALENDAR
METHOD:PUBLISH
CALSCALE:GREGORIAN
PRODID:Elbphilharmonie
VERSION:2.0
BEGIN:VTIMEZONE
TZID:Europe/Berlin
BEGIN:DAYLIGHT
TZOFFSETFROM:+0100
TZOFFSETTO:+0200
TZNAME:CEST
DTSTART:20200329T010000
RRULE:FREQ=YEARLY;INTERVAL=1;BYDAY=-1SU;BYMONTH=3
END:DAYLIGHT
BEGIN:STANDARD
TZOFFSETFROM:+0200
TZOFFSETTO:+0100
TZNAME:CET
DTSTART:20201025T010000
RRULE:FREQ=YEARLY;INTERVAL=1;BYDAY=-1SU;BYMONTH=10
END:STANDARD
END:VTIMEZONE
BEGIN:VEVENT
DTSTAMP:20260423T115400Z
DTSTART:20270206T130000Z
DTEND:20270206T135000Z
LOCATION:Elbphilharmonie Kleiner Saal
SUMMARY:Twinkle Concert L / Viva Banana
DESCRIPTION:Performers\nTocuyito Trio: piano trio\nDalina Ugarte: violin\n
 Santo Scala: violoncello\nJoseph Avila: piano\nCaecilia Thunnissen: stage 
 direction\nSophie Baumgartner: stage design\nBartek Kubiak: lighting desig
 n\n\nProgramme\nThe magical and fiery world of Venezuelan sounds and rhyth
 ms
UID:event28494@Elbphilharmonie.de
URL:https://www.elbphilharmonie.de/en/whats-on/twinkle-concert-l-viva-bana
 na/28494
END:VEVENT
END:VCALENDAR
