BEGIN:VCALENDAR
METHOD:PUBLISH
CALSCALE:GREGORIAN
PRODID:Elbphilharmonie
VERSION:2.0
BEGIN:VTIMEZONE
TZID:Europe/Berlin
BEGIN:DAYLIGHT
TZOFFSETFROM:+0100
TZOFFSETTO:+0200
TZNAME:CEST
DTSTART:20200329T010000
RRULE:FREQ=YEARLY;INTERVAL=1;BYDAY=-1SU;BYMONTH=3
END:DAYLIGHT
BEGIN:STANDARD
TZOFFSETFROM:+0200
TZOFFSETTO:+0100
TZNAME:CET
DTSTART:20201025T010000
RRULE:FREQ=YEARLY;INTERVAL=1;BYDAY=-1SU;BYMONTH=10
END:STANDARD
END:VTIMEZONE
BEGIN:VEVENT
DTSTAMP:20260423T115400Z
DTSTART:20260927T120000Z
DTEND:20260927T125000Z
LOCATION:Elbphilharmonie Kleiner Saal
SUMMARY:Twinkle Concert / Field Trip to the Moon
DESCRIPTION:Performers\nPiano & Sand\nAnna Vidyaykina: sand painting\nSabi
 na Hasanova: piano\nElisabeth Pöcksteiner: script\n\nProgramme\nWith work
 s by Claude Debussy\, Pyotr I. Tchaikovsky\, Sergey Prokofiev\, Joe Hisais
 hi and other moon-loving composers
UID:event28435@Elbphilharmonie.de
URL:https://www.elbphilharmonie.de/en/whats-on/twinkle-concert-field-trip-
 to-the-moon/28435
END:VEVENT
END:VCALENDAR
