BEGIN:VCALENDAR
METHOD:PUBLISH
CALSCALE:GREGORIAN
PRODID:Elbphilharmonie
VERSION:2.0
BEGIN:VTIMEZONE
TZID:Europe/Berlin
BEGIN:DAYLIGHT
TZOFFSETFROM:+0100
TZOFFSETTO:+0200
TZNAME:CEST
DTSTART:20200329T010000
RRULE:FREQ=YEARLY;INTERVAL=1;BYDAY=-1SU;BYMONTH=3
END:DAYLIGHT
BEGIN:STANDARD
TZOFFSETFROM:+0200
TZOFFSETTO:+0100
TZNAME:CET
DTSTART:20201025T010000
RRULE:FREQ=YEARLY;INTERVAL=1;BYDAY=-1SU;BYMONTH=10
END:STANDARD
END:VTIMEZONE
BEGIN:VEVENT
DTSTAMP:20260423T121100Z
DTSTART:20261125T190000Z
DTEND:20261125T210000Z
LOCATION:Elbphilharmonie Großer Saal
SUMMARY:Tonhalle-Orchester Zürich / Paavo Järvi
DESCRIPTION:Performers\nTonhalle-Orchester Zürich\nconductor: Paavo Järv
 i\n\nProgramme\nDavid Philip Hefti\nNew Work\nGustav Mahler\nSymphony No. 
 5 in C-sharp minor
UID:event27931@Elbphilharmonie.de
URL:https://www.elbphilharmonie.de/en/whats-on/tonhalle-orchester-zurich-p
 aavo-jarvi/27931
END:VEVENT
END:VCALENDAR
