BEGIN:VCALENDAR
METHOD:PUBLISH
CALSCALE:GREGORIAN
PRODID:Elbphilharmonie
VERSION:2.0
BEGIN:VTIMEZONE
TZID:Europe/Berlin
BEGIN:DAYLIGHT
TZOFFSETFROM:+0100
TZOFFSETTO:+0200
TZNAME:CEST
DTSTART:20200329T010000
RRULE:FREQ=YEARLY;INTERVAL=1;BYDAY=-1SU;BYMONTH=3
END:DAYLIGHT
BEGIN:STANDARD
TZOFFSETFROM:+0200
TZOFFSETTO:+0100
TZNAME:CET
DTSTART:20201025T010000
RRULE:FREQ=YEARLY;INTERVAL=1;BYDAY=-1SU;BYMONTH=10
END:STANDARD
END:VTIMEZONE
BEGIN:VEVENT
DTSTAMP:20260425T110500Z
DTSTART:20260904T173000Z
DTEND:20260904T193000Z
LOCATION:Elbphilharmonie Kleiner Saal
SUMMARY:Tim Henning Lüttge / Yun Xu
DESCRIPTION:Performers\nTim Henning Lüttge: flute\nYun Xu: piano\n\nProgr
 amme\nCarl Reinecke\nSonate für Flöte und Klavier op. 167 »Undine«\nP
 ierre Sancan\nSonatine A-Dur für Flöte und Klavier\nClaude Paul Taffanel
 \nFantasie über Themen aus »Der Freischütz« von Carl Maria von Weber\n
 – Interval – \nAstor Piazzolla\nYo soy María / Bearbeitung für Flöt
 e und Klavier (Text: Horacio Ferrer)\nLibertango\nAlan Menken\nSpeechless 
 / aus der Filmmusik zu »Aladdin«\nPhil Coulter\, James Galway\nRiverdanc
 e\nLin-Manuel Miranda\nHow Far I’ll Go / aus der Filmmusik zu »Moana«\
 nHans Zimmer\nInterstellar Suite\nIrish Traditional\nBrian’s March\nWilh
 elm Popp\nRigoletto Fantasie für Flöte und Klavier
UID:event28779@Elbphilharmonie.de
URL:https://www.elbphilharmonie.de/en/whats-on/tim-henning-luttge-yun-xu/2
 8779
END:VEVENT
END:VCALENDAR
