BEGIN:VCALENDAR
METHOD:PUBLISH
CALSCALE:GREGORIAN
PRODID:Elbphilharmonie
VERSION:2.0
BEGIN:VTIMEZONE
TZID:Europe/Berlin
BEGIN:DAYLIGHT
TZOFFSETFROM:+0100
TZOFFSETTO:+0200
TZNAME:CEST
DTSTART:20200329T010000
RRULE:FREQ=YEARLY;INTERVAL=1;BYDAY=-1SU;BYMONTH=3
END:DAYLIGHT
BEGIN:STANDARD
TZOFFSETFROM:+0200
TZOFFSETTO:+0100
TZNAME:CET
DTSTART:20201025T010000
RRULE:FREQ=YEARLY;INTERVAL=1;BYDAY=-1SU;BYMONTH=10
END:STANDARD
END:VTIMEZONE
BEGIN:VEVENT
DTSTAMP:20260423T162800Z
DTSTART:20270523T170000Z
DTEND:20270523T180000Z
LOCATION:Elbphilharmonie Großer Saal
SUMMARY:This is absolutely normal and nobody is concerned
DESCRIPTION:Performers\nKian Jazdi: musical director\nAriane Kareev: stage
  direction\nJosa Kölbel: choreography\nPetra Schnakenberg: costume design
 \nPhil Hagen Jungschlaeger: visuals\nCharlotte Beinhauer: script\nProjekte
 nsemble:\n\nProgramme\nEin Projekt über Intimität\, Rebellion und Zerbre
 chlichkeit
UID:event28462@Elbphilharmonie.de
URL:https://www.elbphilharmonie.de/en/whats-on/this-is-absolutely-normal-a
 nd-nobody-is-concerned/28462
END:VEVENT
END:VCALENDAR
