BEGIN:VCALENDAR
METHOD:PUBLISH
CALSCALE:GREGORIAN
PRODID:Elbphilharmonie
VERSION:2.0
BEGIN:VTIMEZONE
TZID:Europe/Berlin
BEGIN:DAYLIGHT
TZOFFSETFROM:+0100
TZOFFSETTO:+0200
TZNAME:CEST
DTSTART:20200329T010000
RRULE:FREQ=YEARLY;INTERVAL=1;BYDAY=-1SU;BYMONTH=3
END:DAYLIGHT
BEGIN:STANDARD
TZOFFSETFROM:+0200
TZOFFSETTO:+0100
TZNAME:CET
DTSTART:20201025T010000
RRULE:FREQ=YEARLY;INTERVAL=1;BYDAY=-1SU;BYMONTH=10
END:STANDARD
END:VTIMEZONE
BEGIN:VEVENT
DTSTAMP:20260424T030900Z
DTSTART:20261117T190000Z
DTEND:20261117T213000Z
LOCATION:Elbphilharmonie Großer Saal
SUMMARY:Thierry Escaich\, organ
DESCRIPTION:Performers\nThierry Escaich: organ\n\nProgramme\nMirrored Danc
 es\nJean-Baptiste Lully\nOuvertüre zu »Le bourgeois gentilhomme« / Bear
 beitung für Orgel von Thierry Escaich\nClaude Gervaise\nSixième Livre de
  Danceries (Auswahl) / Bearbeitung für Orgel (Auswahl)\nJehan Alain\nVari
 ations sur un thème de Clément Janequin\nLitanies\nJohann Sebastian Bach
 \nFantasie c-Moll BWV 562\nFuge G-Dur BWV 577\nThierry Escaich\nImprovisat
 ionen: Andante und Scherzo\nLouis Vierne\nNaïades / aus: Pièces de fanta
 isie\, Suite Nr. 4 op. 55\nIgor Strawinsky / Pierre Pincemaille\nL’oise
 au de feu (Der Feuervogel) (Auszüge)\nThierry Escaich\nÉvocation I\nÉvo
 cation II\nAstor Piazzolla\nFugata / aus: Tangata »Silfo y Ondina«\nThie
 rry Escaich\nImprovisationen:
UID:event27976@Elbphilharmonie.de
URL:https://www.elbphilharmonie.de/en/whats-on/thierry-escaich-organ/27976
END:VEVENT
END:VCALENDAR
