BEGIN:VCALENDAR
METHOD:PUBLISH
CALSCALE:GREGORIAN
PRODID:Elbphilharmonie
VERSION:2.0
BEGIN:VTIMEZONE
TZID:Europe/Berlin
BEGIN:DAYLIGHT
TZOFFSETFROM:+0100
TZOFFSETTO:+0200
TZNAME:CEST
DTSTART:20200329T010000
RRULE:FREQ=YEARLY;INTERVAL=1;BYDAY=-1SU;BYMONTH=3
END:DAYLIGHT
BEGIN:STANDARD
TZOFFSETFROM:+0200
TZOFFSETTO:+0100
TZNAME:CET
DTSTART:20201025T010000
RRULE:FREQ=YEARLY;INTERVAL=1;BYDAY=-1SU;BYMONTH=10
END:STANDARD
END:VTIMEZONE
BEGIN:VEVENT
DTSTAMP:20260423T115400Z
DTSTART:20261003T180000Z
DTEND:20261003T200000Z
LOCATION:Elbphilharmonie Großer Saal
SUMMARY:The Cleveland Orchestra / Franz Welser-Möst
DESCRIPTION:Performers\nThe Cleveland Orchestra\nconductor: Franz Welser-M
 öst\n\nProgramme\nWolfgang Amadeus Mozart\nSinfonie C-Dur KV 338\nBernd R
 ichard Deutsch\nIntensity\n– Interval – \nRichard Strauss\nSinfonia do
 mestica for Large Orchestra in F major\, Op. 53
UID:event27929@Elbphilharmonie.de
URL:https://www.elbphilharmonie.de/en/whats-on/the-cleveland-orchestra-fra
 nz-welser-most/27929
END:VEVENT
END:VCALENDAR
