BEGIN:VCALENDAR
METHOD:PUBLISH
CALSCALE:GREGORIAN
PRODID:Elbphilharmonie
VERSION:2.0
BEGIN:VTIMEZONE
TZID:Europe/Berlin
BEGIN:DAYLIGHT
TZOFFSETFROM:+0100
TZOFFSETTO:+0200
TZNAME:CEST
DTSTART:20200329T010000
RRULE:FREQ=YEARLY;INTERVAL=1;BYDAY=-1SU;BYMONTH=3
END:DAYLIGHT
BEGIN:STANDARD
TZOFFSETFROM:+0200
TZOFFSETTO:+0100
TZNAME:CET
DTSTART:20201025T010000
RRULE:FREQ=YEARLY;INTERVAL=1;BYDAY=-1SU;BYMONTH=10
END:STANDARD
END:VTIMEZONE
BEGIN:VEVENT
DTSTAMP:20260423T192100Z
DTSTART:20270613T180000Z
DTEND:20270613T202000Z
LOCATION:Elbphilharmonie Großer Saal
SUMMARY:The 200th Beethoven anniversary
DESCRIPTION:Performers\nOrchester Wiener Akademie\nconductor: Martin Hasel
 böck\n\nProgramme\nLudwig van Beethoven\nSymphony No. 1 in C major\, Op. 
 21\nSymphony No. 2 in D major\, Op. 36\n– Interval – \nLudwig van Beet
 hoven\nSymphony No. 3 in E-flat major\, Op. 55 »Eroica«
UID:event28477@Elbphilharmonie.de
URL:https://www.elbphilharmonie.de/en/whats-on/the-200th-beethoven-anniver
 sary/28477
END:VEVENT
END:VCALENDAR
