BEGIN:VCALENDAR
METHOD:PUBLISH
CALSCALE:GREGORIAN
PRODID:Elbphilharmonie
VERSION:2.0
BEGIN:VTIMEZONE
TZID:Europe/Berlin
BEGIN:DAYLIGHT
TZOFFSETFROM:+0100
TZOFFSETTO:+0200
TZNAME:CEST
DTSTART:20200329T010000
RRULE:FREQ=YEARLY;INTERVAL=1;BYDAY=-1SU;BYMONTH=3
END:DAYLIGHT
BEGIN:STANDARD
TZOFFSETFROM:+0200
TZOFFSETTO:+0100
TZNAME:CET
DTSTART:20201025T010000
RRULE:FREQ=YEARLY;INTERVAL=1;BYDAY=-1SU;BYMONTH=10
END:STANDARD
END:VTIMEZONE
BEGIN:VEVENT
DTSTAMP:20260423T214000Z
DTSTART:20270110T100000Z
DTEND:20270110T115000Z
LOCATION:Elbphilharmonie Großer Saal
SUMMARY:The 200th Beethoven anniversary
DESCRIPTION:Performers\nOrchester Wiener Akademie\nconductor: Martin Hasel
 böck\n\nProgramme\nLudwig van Beethoven\nSymphony No. 4 in B-flat major\,
  Op. 60\n– Interval – \nLudwig van Beethoven\nSymphony No. 7 in A majo
 r\, Op. 92
UID:event28475@Elbphilharmonie.de
URL:https://www.elbphilharmonie.de/en/whats-on/the-200th-beethoven-anniver
 sary/28475
END:VEVENT
END:VCALENDAR
