BEGIN:VCALENDAR
METHOD:PUBLISH
CALSCALE:GREGORIAN
PRODID:Elbphilharmonie
VERSION:2.0
BEGIN:VTIMEZONE
TZID:Europe/Berlin
BEGIN:DAYLIGHT
TZOFFSETFROM:+0100
TZOFFSETTO:+0200
TZNAME:CEST
DTSTART:20200329T010000
RRULE:FREQ=YEARLY;INTERVAL=1;BYDAY=-1SU;BYMONTH=3
END:DAYLIGHT
BEGIN:STANDARD
TZOFFSETFROM:+0200
TZOFFSETTO:+0100
TZNAME:CET
DTSTART:20201025T010000
RRULE:FREQ=YEARLY;INTERVAL=1;BYDAY=-1SU;BYMONTH=10
END:STANDARD
END:VTIMEZONE
BEGIN:VEVENT
DTSTAMP:20260423T164500Z
DTSTART:20261024T173000Z
DTEND:20261024T191500Z
LOCATION:Elbphilharmonie Kleiner Saal
SUMMARY:Terri Lyne Carrington
DESCRIPTION:Performers\nTerri Lyne Carrington: drums\nChristie Dashiell: v
 ocals\nMilena Casado: trumpet\nMatthew Stevens: guitar\nMorgan Guerin: bas
 s\, saxophone\n\nProgramme\nWe Insist 2025!
UID:event27971@Elbphilharmonie.de
URL:https://www.elbphilharmonie.de/en/whats-on/terri-lyne-carrington/27971
END:VEVENT
END:VCALENDAR
