BEGIN:VCALENDAR
METHOD:PUBLISH
CALSCALE:GREGORIAN
PRODID:Elbphilharmonie
VERSION:2.0
BEGIN:VTIMEZONE
TZID:Europe/Berlin
BEGIN:DAYLIGHT
TZOFFSETFROM:+0100
TZOFFSETTO:+0200
TZNAME:CEST
DTSTART:20200329T010000
RRULE:FREQ=YEARLY;INTERVAL=1;BYDAY=-1SU;BYMONTH=3
END:DAYLIGHT
BEGIN:STANDARD
TZOFFSETFROM:+0200
TZOFFSETTO:+0100
TZNAME:CET
DTSTART:20201025T010000
RRULE:FREQ=YEARLY;INTERVAL=1;BYDAY=-1SU;BYMONTH=10
END:STANDARD
END:VTIMEZONE
BEGIN:VEVENT
DTSTAMP:20260423T195500Z
DTSTART:20270425T090000Z
DTEND:20270425T120000Z
LOCATION:Laeiszhalle Großer Saal
SUMMARY:Symphoniker Hamburg / Ton Koopman
DESCRIPTION:Performers\nSymphoniker Hamburg\nconductor: Ton Koopman\n\nPro
 gramme\nGeorg Philipp Telemann\nOrchestersuite B-Dur TWV 55/B1 / aus: »Ta
 felmusik«\nJohann Sebastian Bach\nSinfonia / aus: Am Abend aber desselbig
 en Sabbats BWV 42\nGeorg Friedrich Händel\nMusic for the Royal Fireworks\
 , HWV 351\n– Interval – \nLudwig van Beethoven\nSymphony No. 2 in D ma
 jor\, Op. 36
UID:event28070@Elbphilharmonie.de
URL:https://www.elbphilharmonie.de/en/whats-on/symphoniker-hamburg-ton-koo
 pman/28070
END:VEVENT
END:VCALENDAR
