BEGIN:VCALENDAR
METHOD:PUBLISH
CALSCALE:GREGORIAN
PRODID:Elbphilharmonie
VERSION:2.0
BEGIN:VTIMEZONE
TZID:Europe/Berlin
BEGIN:DAYLIGHT
TZOFFSETFROM:+0100
TZOFFSETTO:+0200
TZNAME:CEST
DTSTART:20200329T010000
RRULE:FREQ=YEARLY;INTERVAL=1;BYDAY=-1SU;BYMONTH=3
END:DAYLIGHT
BEGIN:STANDARD
TZOFFSETFROM:+0200
TZOFFSETTO:+0100
TZNAME:CET
DTSTART:20201025T010000
RRULE:FREQ=YEARLY;INTERVAL=1;BYDAY=-1SU;BYMONTH=10
END:STANDARD
END:VTIMEZONE
BEGIN:VEVENT
DTSTAMP:20260423T115400Z
DTSTART:20261119T183000Z
DTEND:20261119T210000Z
LOCATION:Laeiszhalle Großer Saal
SUMMARY:Symphoniker Hamburg / Szymon Nehring / Pawel Kapuła
DESCRIPTION:Performers\nSymphoniker Hamburg\nSzymon Nehring: piano\nconduc
 tor: Paweł Kapuła\n\nProgramme\nFrédéric Chopin\nConcerto for Piano an
 d Orchstra No. 1 in E minor Op. 11\n– Interval – \nFelix Mendelssohn B
 artholdy\nSymphony No. 5 in D major\, Op. 107 »Reformation«
UID:event28055@Elbphilharmonie.de
URL:https://www.elbphilharmonie.de/en/whats-on/symphoniker-hamburg-szymon-
 nehring-pawel-kapua/28055
END:VEVENT
END:VCALENDAR
