BEGIN:VCALENDAR
METHOD:PUBLISH
CALSCALE:GREGORIAN
PRODID:Elbphilharmonie
VERSION:2.0
BEGIN:VTIMEZONE
TZID:Europe/Berlin
BEGIN:DAYLIGHT
TZOFFSETFROM:+0100
TZOFFSETTO:+0200
TZNAME:CEST
DTSTART:20200329T010000
RRULE:FREQ=YEARLY;INTERVAL=1;BYDAY=-1SU;BYMONTH=3
END:DAYLIGHT
BEGIN:STANDARD
TZOFFSETFROM:+0200
TZOFFSETTO:+0100
TZNAME:CET
DTSTART:20201025T010000
RRULE:FREQ=YEARLY;INTERVAL=1;BYDAY=-1SU;BYMONTH=10
END:STANDARD
END:VTIMEZONE
BEGIN:VEVENT
DTSTAMP:20260419T183700Z
DTSTART:20260607T090000Z
DTEND:20260607T110000Z
LOCATION:Laeiszhalle Großer Saal
SUMMARY:Symphoniker Hamburg / Szymon Nehring / Delyana Lazarova
DESCRIPTION:Performers\nSymphoniker Hamburg\nSzymon Nehring: piano\nconduc
 tor: Delyana Lazarova\n\nProgramme\nSergej Rachmaninow\nConcerto for Piano
  and Orchestra No. 3 in D minor\, Op. 30\n– Interval – \nAntonín Dvo
 řák\nSymphony No. 9 in E minor\, Op. 95 »From the New World«
UID:event23250@Elbphilharmonie.de
URL:https://www.elbphilharmonie.de/en/whats-on/symphoniker-hamburg-szymon-
 nehring-delyana-lazarova/23250
END:VEVENT
END:VCALENDAR
