BEGIN:VCALENDAR
METHOD:PUBLISH
CALSCALE:GREGORIAN
PRODID:Elbphilharmonie
VERSION:2.0
BEGIN:VTIMEZONE
TZID:Europe/Berlin
BEGIN:DAYLIGHT
TZOFFSETFROM:+0100
TZOFFSETTO:+0200
TZNAME:CEST
DTSTART:20200329T010000
RRULE:FREQ=YEARLY;INTERVAL=1;BYDAY=-1SU;BYMONTH=3
END:DAYLIGHT
BEGIN:STANDARD
TZOFFSETFROM:+0200
TZOFFSETTO:+0100
TZNAME:CET
DTSTART:20201025T010000
RRULE:FREQ=YEARLY;INTERVAL=1;BYDAY=-1SU;BYMONTH=10
END:STANDARD
END:VTIMEZONE
BEGIN:VEVENT
DTSTAMP:20260423T124300Z
DTSTART:20260924T180000Z
DTEND:20260924T210000Z
LOCATION:Elbphilharmonie Großer Saal
SUMMARY:Symphoniker Hamburg / Sylvain Cambreling
DESCRIPTION:Performers\nSymphoniker Hamburg\nEuropaChorAkademie\nSarah Weg
 ener: soprano\nAnke Vondung: alto\nSeungwoo Simon Yang: tenor\nYannick Deb
 us: bass\nBoris Giltburg: piano\nconductor: Sylvain Cambreling\n\nProgramm
 e\nGeorge Gershwin\nConcerto for Piano and Orchestra in F major\n– Inter
 val – \nWolfgang Amadeus Mozart\nRequiem in D minor\, K. 626
UID:event28072@Elbphilharmonie.de
URL:https://www.elbphilharmonie.de/en/whats-on/symphoniker-hamburg-sylvain
 -cambreling/28072
END:VEVENT
END:VCALENDAR
