BEGIN:VCALENDAR
METHOD:PUBLISH
CALSCALE:GREGORIAN
PRODID:Elbphilharmonie
VERSION:2.0
BEGIN:VTIMEZONE
TZID:Europe/Berlin
BEGIN:DAYLIGHT
TZOFFSETFROM:+0100
TZOFFSETTO:+0200
TZNAME:CEST
DTSTART:20200329T010000
RRULE:FREQ=YEARLY;INTERVAL=1;BYDAY=-1SU;BYMONTH=3
END:DAYLIGHT
BEGIN:STANDARD
TZOFFSETFROM:+0200
TZOFFSETTO:+0100
TZNAME:CET
DTSTART:20201025T010000
RRULE:FREQ=YEARLY;INTERVAL=1;BYDAY=-1SU;BYMONTH=10
END:STANDARD
END:VTIMEZONE
BEGIN:VEVENT
DTSTAMP:20260423T200800Z
DTSTART:20270214T180000Z
DTEND:20270214T210000Z
LOCATION:Laeiszhalle Großer Saal
SUMMARY:Symphoniker Hamburg / Sara Davis Buechner / Sylvain Cambreling
DESCRIPTION:Performers\nSymphoniker Hamburg\nAlexander Roslavets: bass\nSa
 ra Davis Buechner: piano\nconductor: Sylvain Cambreling\n\nProgramme\nMaur
 ice Ravel\nAlborada del gracioso (version for orchestra)\nRichard Strauss\
 nBurleske for Piano and Orchestra in D minor\, TrV 145\n– Interval – \
 nModest Mussorgsky\nSongs and Dances of Death\nMaurice Ravel\nLa valse / P
 oème chorégraphique for Orchestra
UID:event28049@Elbphilharmonie.de
URL:https://www.elbphilharmonie.de/en/whats-on/symphoniker-hamburg-sara-da
 vis-buechner-sylvain-cambreling/28049
END:VEVENT
END:VCALENDAR
