BEGIN:VCALENDAR
METHOD:PUBLISH
CALSCALE:GREGORIAN
PRODID:Elbphilharmonie
VERSION:2.0
BEGIN:VTIMEZONE
TZID:Europe/Berlin
BEGIN:DAYLIGHT
TZOFFSETFROM:+0100
TZOFFSETTO:+0200
TZNAME:CEST
DTSTART:20200329T010000
RRULE:FREQ=YEARLY;INTERVAL=1;BYDAY=-1SU;BYMONTH=3
END:DAYLIGHT
BEGIN:STANDARD
TZOFFSETFROM:+0200
TZOFFSETTO:+0100
TZNAME:CET
DTSTART:20201025T010000
RRULE:FREQ=YEARLY;INTERVAL=1;BYDAY=-1SU;BYMONTH=10
END:STANDARD
END:VTIMEZONE
BEGIN:VEVENT
DTSTAMP:20260423T181800Z
DTSTART:20270221T100000Z
DTEND:20270221T130000Z
LOCATION:Laeiszhalle Großer Saal
SUMMARY:Symphoniker Hamburg / Pierre Génisson / Tianyi Lu
DESCRIPTION:Performers\nSymphoniker Hamburg\nPierre Génisson: clarinet\nc
 onductor: Tianyi Lu\n\nProgramme\nAaron Copland\nFanfare for the Common Ma
 n\nJoan Tower\nFanfare for the Uncommon Woman\nAaron Copland\nKonzert für
  Klarinette und Orchester\n– Interval – \nPiotr I. Tschaikowsky\nSchwa
 nensee / Ballettsuite op. 20a
UID:event28069@Elbphilharmonie.de
URL:https://www.elbphilharmonie.de/en/whats-on/symphoniker-hamburg-pierre-
 genisson-tianyi-lu/28069
END:VEVENT
END:VCALENDAR
