BEGIN:VCALENDAR
METHOD:PUBLISH
CALSCALE:GREGORIAN
PRODID:Elbphilharmonie
VERSION:2.0
BEGIN:VTIMEZONE
TZID:Europe/Berlin
BEGIN:DAYLIGHT
TZOFFSETFROM:+0100
TZOFFSETTO:+0200
TZNAME:CEST
DTSTART:20200329T010000
RRULE:FREQ=YEARLY;INTERVAL=1;BYDAY=-1SU;BYMONTH=3
END:DAYLIGHT
BEGIN:STANDARD
TZOFFSETFROM:+0200
TZOFFSETTO:+0100
TZNAME:CET
DTSTART:20201025T010000
RRULE:FREQ=YEARLY;INTERVAL=1;BYDAY=-1SU;BYMONTH=10
END:STANDARD
END:VTIMEZONE
BEGIN:VEVENT
DTSTAMP:20260423T124300Z
DTSTART:20270429T180000Z
DTEND:20270429T210000Z
LOCATION:Elbphilharmonie Großer Saal
SUMMARY:Symphoniker Hamburg / Nils Landgren / Clark Rundell
DESCRIPTION:Performers\nSymphoniker Hamburg\nNils Landgren: trombone\n& Tr
 io: \nconductor: Clark Rundell\n\nProgramme\nKurt Weill\nKleine Dreigrosch
 enmusik für Blasorchester / Suite aus der »Dreigroschenoper«\nSinfonie 
 Nr. 2\n– Interval – \nKurt Weill\nLieder
UID:event28746@Elbphilharmonie.de
URL:https://www.elbphilharmonie.de/en/whats-on/symphoniker-hamburg-nils-la
 ndgren-clark-rundell/28746
END:VEVENT
END:VCALENDAR
