BEGIN:VCALENDAR
METHOD:PUBLISH
CALSCALE:GREGORIAN
PRODID:Elbphilharmonie
VERSION:2.0
BEGIN:VTIMEZONE
TZID:Europe/Berlin
BEGIN:DAYLIGHT
TZOFFSETFROM:+0100
TZOFFSETTO:+0200
TZNAME:CEST
DTSTART:20200329T010000
RRULE:FREQ=YEARLY;INTERVAL=1;BYDAY=-1SU;BYMONTH=3
END:DAYLIGHT
BEGIN:STANDARD
TZOFFSETFROM:+0200
TZOFFSETTO:+0100
TZNAME:CET
DTSTART:20201025T010000
RRULE:FREQ=YEARLY;INTERVAL=1;BYDAY=-1SU;BYMONTH=10
END:STANDARD
END:VTIMEZONE
BEGIN:VEVENT
DTSTAMP:20260423T233300Z
DTSTART:20270610T173000Z
DTEND:20270610T200000Z
LOCATION:Laeiszhalle Großer Saal
SUMMARY:Symphoniker Hamburg / Nicolas Ellis
DESCRIPTION:Performers\nSymphoniker Hamburg\nconductor: Nicolas Ellis\n\nP
 rogramme\nChristoph Willibald Gluck\nDon Juan ou Le festin de Pierre / Bal
 lett-Pantomime in drei Akten (Auszüge)\nJoseph Haydn\nSinfonie g-Moll Hob
 . I:39\n– Interval – \nPiotr I. Tschaikowsky\nSymphony No. 6 in B mino
 r\, Op. 74 »Pathétique«
UID:event28059@Elbphilharmonie.de
URL:https://www.elbphilharmonie.de/en/whats-on/symphoniker-hamburg-nicolas
 -ellis/28059
END:VEVENT
END:VCALENDAR
