BEGIN:VCALENDAR
METHOD:PUBLISH
CALSCALE:GREGORIAN
PRODID:Elbphilharmonie
VERSION:2.0
BEGIN:VTIMEZONE
TZID:Europe/Berlin
BEGIN:DAYLIGHT
TZOFFSETFROM:+0100
TZOFFSETTO:+0200
TZNAME:CEST
DTSTART:20200329T010000
RRULE:FREQ=YEARLY;INTERVAL=1;BYDAY=-1SU;BYMONTH=3
END:DAYLIGHT
BEGIN:STANDARD
TZOFFSETFROM:+0200
TZOFFSETTO:+0100
TZNAME:CET
DTSTART:20201025T010000
RRULE:FREQ=YEARLY;INTERVAL=1;BYDAY=-1SU;BYMONTH=10
END:STANDARD
END:VTIMEZONE
BEGIN:VEVENT
DTSTAMP:20260423T181800Z
DTSTART:20270523T170000Z
DTEND:20270523T200000Z
LOCATION:Laeiszhalle Großer Saal
SUMMARY:Symphoniker Hamburg / Marc-André Hamelin / Ryan Wigglesworth
DESCRIPTION:Performers\nSymphoniker Hamburg\nMarc-André Hamelin: piano\nc
 onductor: Ryan Wigglesworth\n\nProgramme\nJohannes Brahms\nSymphony No. 3 
 in F major\, Op. 90\n– Interval – \nJohannes Brahms\nConcerto for Pian
 o and Orchestra No. 2 in B-flat major\, Op. 83
UID:event28052@Elbphilharmonie.de
URL:https://www.elbphilharmonie.de/en/whats-on/symphoniker-hamburg-marc-an
 dre-hamelin-ryan-wigglesworth/28052
END:VEVENT
END:VCALENDAR
