BEGIN:VCALENDAR
METHOD:PUBLISH
CALSCALE:GREGORIAN
PRODID:Elbphilharmonie
VERSION:2.0
BEGIN:VTIMEZONE
TZID:Europe/Berlin
BEGIN:DAYLIGHT
TZOFFSETFROM:+0100
TZOFFSETTO:+0200
TZNAME:CEST
DTSTART:20200329T010000
RRULE:FREQ=YEARLY;INTERVAL=1;BYDAY=-1SU;BYMONTH=3
END:DAYLIGHT
BEGIN:STANDARD
TZOFFSETFROM:+0200
TZOFFSETTO:+0100
TZNAME:CET
DTSTART:20201025T010000
RRULE:FREQ=YEARLY;INTERVAL=1;BYDAY=-1SU;BYMONTH=10
END:STANDARD
END:VTIMEZONE
BEGIN:VEVENT
DTSTAMP:20260423T115400Z
DTSTART:20261108T180000Z
DTEND:20261108T210000Z
LOCATION:Laeiszhalle Großer Saal
SUMMARY:Symphoniker Hamburg / Lukáš Vondráček / David Afkam
DESCRIPTION:Performers\nSymphoniker Hamburg\nLukáš Vondráček: piano\nc
 onductor: David Afkham\n\nProgramme\nUnsuk Chin\nsubito con forza\nLudwig 
 van Beethoven\nConcerto for Piano and Orchestra No. 3 in C minor\, Op. 37\
 n– Interval – \nJohannes Brahms\nSymphony No. 1 in C minor\, Op. 68
UID:event28046@Elbphilharmonie.de
URL:https://www.elbphilharmonie.de/en/whats-on/symphoniker-hamburg-lukas-v
 ondracek-david-afkam/28046
END:VEVENT
END:VCALENDAR
