BEGIN:VCALENDAR
METHOD:PUBLISH
CALSCALE:GREGORIAN
PRODID:Elbphilharmonie
VERSION:2.0
BEGIN:VTIMEZONE
TZID:Europe/Berlin
BEGIN:DAYLIGHT
TZOFFSETFROM:+0100
TZOFFSETTO:+0200
TZNAME:CEST
DTSTART:20200329T010000
RRULE:FREQ=YEARLY;INTERVAL=1;BYDAY=-1SU;BYMONTH=3
END:DAYLIGHT
BEGIN:STANDARD
TZOFFSETFROM:+0200
TZOFFSETTO:+0100
TZNAME:CET
DTSTART:20201025T010000
RRULE:FREQ=YEARLY;INTERVAL=1;BYDAY=-1SU;BYMONTH=10
END:STANDARD
END:VTIMEZONE
BEGIN:VEVENT
DTSTAMP:20260423T195500Z
DTSTART:20270321T180000Z
DTEND:20270321T210000Z
LOCATION:Laeiszhalle Großer Saal
SUMMARY:Symphoniker Hamburg / Liya Petrova / Jack Sheen
DESCRIPTION:Performers\nSymphoniker Hamburg\nLiya Petrova: violin\nconduct
 or: Jack Sheen\n\nProgramme\nZoltán Kodály\nDances of Galánta\nSergej P
 rokofjew\nKonzert für Violine und Orchester Nr. 2 g-Moll op. 63\n– Int
 erval – \nRichard Wagner\nPrelude to »Tristan und Isolde«\, WWV 90\nJe
 an Sibelius\nSymphony No. 7 in C major\, Op. 105
UID:event28050@Elbphilharmonie.de
URL:https://www.elbphilharmonie.de/en/whats-on/symphoniker-hamburg-liya-pe
 trova-jack-sheen/28050
END:VEVENT
END:VCALENDAR
