BEGIN:VCALENDAR
METHOD:PUBLISH
CALSCALE:GREGORIAN
PRODID:Elbphilharmonie
VERSION:2.0
BEGIN:VTIMEZONE
TZID:Europe/Berlin
BEGIN:DAYLIGHT
TZOFFSETFROM:+0100
TZOFFSETTO:+0200
TZNAME:CEST
DTSTART:20200329T010000
RRULE:FREQ=YEARLY;INTERVAL=1;BYDAY=-1SU;BYMONTH=3
END:DAYLIGHT
BEGIN:STANDARD
TZOFFSETFROM:+0200
TZOFFSETTO:+0100
TZNAME:CET
DTSTART:20201025T010000
RRULE:FREQ=YEARLY;INTERVAL=1;BYDAY=-1SU;BYMONTH=10
END:STANDARD
END:VTIMEZONE
BEGIN:VEVENT
DTSTAMP:20260423T214000Z
DTSTART:20270606T090000Z
DTEND:20270606T110000Z
LOCATION:Laeiszhalle Großer Saal
SUMMARY:Symphoniker Hamburg / Krassimira Stoyanova / David Afkham
DESCRIPTION:Performers\nSymphoniker Hamburg\nKrassimira Stoyanova: soprano
 \nconductor: David Afkham\n\nProgramme\nWolfgang Amadeus Mozart\nOverture 
 from »Die Zauberflöte«\, K. 620\nRichard Strauss\nVier letzte Lieder Tr
 V 296\n– Interval – \nKaija Saariaho\nLumière et pesanteur für Orche
 ster\nWolfgang Amadeus Mozart\nSymphony in C major\, KV 551 »Jupiter«
UID:event28071@Elbphilharmonie.de
URL:https://www.elbphilharmonie.de/en/whats-on/symphoniker-hamburg-krassim
 ira-stoyanova-david-afkham/28071
END:VEVENT
END:VCALENDAR
