BEGIN:VCALENDAR
METHOD:PUBLISH
CALSCALE:GREGORIAN
PRODID:Elbphilharmonie
VERSION:2.0
BEGIN:VTIMEZONE
TZID:Europe/Berlin
BEGIN:DAYLIGHT
TZOFFSETFROM:+0100
TZOFFSETTO:+0200
TZNAME:CEST
DTSTART:20200329T010000
RRULE:FREQ=YEARLY;INTERVAL=1;BYDAY=-1SU;BYMONTH=3
END:DAYLIGHT
BEGIN:STANDARD
TZOFFSETFROM:+0200
TZOFFSETTO:+0100
TZNAME:CET
DTSTART:20201025T010000
RRULE:FREQ=YEARLY;INTERVAL=1;BYDAY=-1SU;BYMONTH=10
END:STANDARD
END:VTIMEZONE
BEGIN:VEVENT
DTSTAMP:20260424T011000Z
DTSTART:20270109T170000Z
DTEND:20270109T200000Z
LOCATION:Laeiszhalle Großer Saal
SUMMARY:Symphoniker Hamburg / Khatia Buniatishvili / Sylvain Cambreling
DESCRIPTION:Performers\nSymphoniker Hamburg\nKhatia Buniatishvili: piano\n
 conductor: Sylvain Cambreling\n\nProgramme\nPiotr I. Tschaikowsky\nConcert
 o for Piano and Orchestra No. 1 in B-flat minor\, Op. 23\n– Interval –
  \nÜberaschungsprogramm mit Musik von Ludwig van Beethoven bis Johann Str
 auss
UID:event28076@Elbphilharmonie.de
URL:https://www.elbphilharmonie.de/en/whats-on/symphoniker-hamburg-khatia-
 buniatishvili-sylvain-cambreling/28076
END:VEVENT
END:VCALENDAR
