BEGIN:VCALENDAR
METHOD:PUBLISH
CALSCALE:GREGORIAN
PRODID:Elbphilharmonie
VERSION:2.0
BEGIN:VTIMEZONE
TZID:Europe/Berlin
BEGIN:DAYLIGHT
TZOFFSETFROM:+0100
TZOFFSETTO:+0200
TZNAME:CEST
DTSTART:20200329T010000
RRULE:FREQ=YEARLY;INTERVAL=1;BYDAY=-1SU;BYMONTH=3
END:DAYLIGHT
BEGIN:STANDARD
TZOFFSETFROM:+0200
TZOFFSETTO:+0100
TZNAME:CET
DTSTART:20201025T010000
RRULE:FREQ=YEARLY;INTERVAL=1;BYDAY=-1SU;BYMONTH=10
END:STANDARD
END:VTIMEZONE
BEGIN:VEVENT
DTSTAMP:20260423T195500Z
DTSTART:20270117T180000Z
DTEND:20270117T210000Z
LOCATION:Laeiszhalle Großer Saal
SUMMARY:Symphoniker Hamburg / Julia Lezhneva / Bernard Labadie
DESCRIPTION:Performers\nSymphoniker Hamburg\nJulia Lezhneva: soprano\ncond
 uctor: Bernard Labadie\n\nProgramme\nGeorg Friedrich Händel\nWassermusik 
 HWV 348–350\nArien\n– Interval – \nWolfgang Amadeus Mozart\nParto\, 
 parto\, ma tu ben mio / Arie des Sesto aus »La Clemenza di Tito« KV 621\
 nSymphony in E-flat major\, KV 543
UID:event28048@Elbphilharmonie.de
URL:https://www.elbphilharmonie.de/en/whats-on/symphoniker-hamburg-julia-l
 ezhneva-bernard-labadie/28048
END:VEVENT
END:VCALENDAR
