BEGIN:VCALENDAR
METHOD:PUBLISH
CALSCALE:GREGORIAN
PRODID:Elbphilharmonie
VERSION:2.0
BEGIN:VTIMEZONE
TZID:Europe/Berlin
BEGIN:DAYLIGHT
TZOFFSETFROM:+0100
TZOFFSETTO:+0200
TZNAME:CEST
DTSTART:20200329T010000
RRULE:FREQ=YEARLY;INTERVAL=1;BYDAY=-1SU;BYMONTH=3
END:DAYLIGHT
BEGIN:STANDARD
TZOFFSETFROM:+0200
TZOFFSETTO:+0100
TZNAME:CET
DTSTART:20201025T010000
RRULE:FREQ=YEARLY;INTERVAL=1;BYDAY=-1SU;BYMONTH=10
END:STANDARD
END:VTIMEZONE
BEGIN:VEVENT
DTSTAMP:20260423T181800Z
DTSTART:20270204T183000Z
DTEND:20270204T210000Z
LOCATION:Laeiszhalle Großer Saal
SUMMARY:Symphoniker Hamburg / Jing Zhao / Nuno Coelho
DESCRIPTION:Performers\nSymphoniker Hamburg\nJing Zhao: violoncello\ncondu
 ctor: Nuno Coelho\n\nProgramme\nHeitor Villa-Lobos\nBachianas brasileiras 
 No. 4\nErich Wolfgang Korngold\nKonzert für Violoncello und Orchester C-D
 ur op. 37\n– Interval – \nCharles Ives\nSymphony No. 2
UID:event28057@Elbphilharmonie.de
URL:https://www.elbphilharmonie.de/en/whats-on/symphoniker-hamburg-jing-zh
 ao-nuno-coelho/28057
END:VEVENT
END:VCALENDAR
