BEGIN:VCALENDAR
METHOD:PUBLISH
CALSCALE:GREGORIAN
PRODID:Elbphilharmonie
VERSION:2.0
BEGIN:VTIMEZONE
TZID:Europe/Berlin
BEGIN:DAYLIGHT
TZOFFSETFROM:+0100
TZOFFSETTO:+0200
TZNAME:CEST
DTSTART:20200329T010000
RRULE:FREQ=YEARLY;INTERVAL=1;BYDAY=-1SU;BYMONTH=3
END:DAYLIGHT
BEGIN:STANDARD
TZOFFSETFROM:+0200
TZOFFSETTO:+0100
TZNAME:CET
DTSTART:20201025T010000
RRULE:FREQ=YEARLY;INTERVAL=1;BYDAY=-1SU;BYMONTH=10
END:STANDARD
END:VTIMEZONE
BEGIN:VEVENT
DTSTAMP:20260423T115400Z
DTSTART:20270613T090000Z
DTEND:20270613T113000Z
LOCATION:Laeiszhalle Kleiner Saal
SUMMARY:Symphoniker Hamburg / Chamber Concert
DESCRIPTION:Performers\nHovhannes Baghdasaryan: violin\nMihaela Villalba H
 öpfner: violin\nHsiang-Hsiang Tsai: viola\nN.N.: Viola\nSebastian Mirow: 
 violoncello\nLi Li: violoncello\n\nProgramme\nJoseph Haydn\nStreichquartet
 t C-Dur op. 20/2\nAlexander Borodin\nStreichquartett Nr. 2 D-Dur\n– Int
 erval – \nJohannes Brahms\nStreichsextett Nr. 2 G-Dur op. 36
UID:event28085@Elbphilharmonie.de
URL:https://www.elbphilharmonie.de/en/whats-on/symphoniker-hamburg-chamber
 -concert/28085
END:VEVENT
END:VCALENDAR
