BEGIN:VCALENDAR
METHOD:PUBLISH
CALSCALE:GREGORIAN
PRODID:Elbphilharmonie
VERSION:2.0
BEGIN:VTIMEZONE
TZID:Europe/Berlin
BEGIN:DAYLIGHT
TZOFFSETFROM:+0100
TZOFFSETTO:+0200
TZNAME:CEST
DTSTART:20200329T010000
RRULE:FREQ=YEARLY;INTERVAL=1;BYDAY=-1SU;BYMONTH=3
END:DAYLIGHT
BEGIN:STANDARD
TZOFFSETFROM:+0200
TZOFFSETTO:+0100
TZNAME:CET
DTSTART:20201025T010000
RRULE:FREQ=YEARLY;INTERVAL=1;BYDAY=-1SU;BYMONTH=10
END:STANDARD
END:VTIMEZONE
BEGIN:VEVENT
DTSTAMP:20260423T115400Z
DTSTART:20270527T173000Z
DTEND:20270527T200000Z
LOCATION:Laeiszhalle Kleiner Saal
SUMMARY:Symphoniker Hamburg / Chamber Concert
DESCRIPTION:Performers\nAdrian Iliescu: violin\nSzymon Nehring: piano\n\nP
 rogramme\nWorks by Ludwig van Beethoven\, Leoš Janáček and Maurice Rave
 l
UID:event28084@Elbphilharmonie.de
URL:https://www.elbphilharmonie.de/en/whats-on/symphoniker-hamburg-chamber
 -concert/28084
END:VEVENT
END:VCALENDAR
