BEGIN:VCALENDAR
METHOD:PUBLISH
CALSCALE:GREGORIAN
PRODID:Elbphilharmonie
VERSION:2.0
BEGIN:VTIMEZONE
TZID:Europe/Berlin
BEGIN:DAYLIGHT
TZOFFSETFROM:+0100
TZOFFSETTO:+0200
TZNAME:CEST
DTSTART:20200329T010000
RRULE:FREQ=YEARLY;INTERVAL=1;BYDAY=-1SU;BYMONTH=3
END:DAYLIGHT
BEGIN:STANDARD
TZOFFSETFROM:+0200
TZOFFSETTO:+0100
TZNAME:CET
DTSTART:20201025T010000
RRULE:FREQ=YEARLY;INTERVAL=1;BYDAY=-1SU;BYMONTH=10
END:STANDARD
END:VTIMEZONE
BEGIN:VEVENT
DTSTAMP:20260423T115400Z
DTSTART:20270408T173000Z
DTEND:20270408T200000Z
LOCATION:Laeiszhalle Kleiner Saal
SUMMARY:Symphoniker Hamburg / Chamber Concert
DESCRIPTION:Performers\nSusanne Barner: flute\nMarc Renner: oboe\nFrederik
  Virsik: clarinet\nElmar Hönig: clarinet\nPéter Gulyka: french horn\nChr
 istian Ganzhorn: bassoon\nBarbara Hefele: violin\nDaniela Frank-Muntean: v
 iola\nTheresia Rosendorfer: violoncello\nRafael Cunha: double bass\n\nProg
 ramme\nBedřich Smetana\nZwei Tänze aus »Die verkaufte Braut« B 143 / B
 earbeitung für Bläser-Sextett\nLeoš Janáček\nMládi (Youth) for Wind 
 Ensemble\n– Interval – \nConradin Kreutzer\nSeptett Es-Dur op. 62
UID:event28083@Elbphilharmonie.de
URL:https://www.elbphilharmonie.de/en/whats-on/symphoniker-hamburg-chamber
 -concert/28083
END:VEVENT
END:VCALENDAR
