BEGIN:VCALENDAR
METHOD:PUBLISH
CALSCALE:GREGORIAN
PRODID:Elbphilharmonie
VERSION:2.0
BEGIN:VTIMEZONE
TZID:Europe/Berlin
BEGIN:DAYLIGHT
TZOFFSETFROM:+0100
TZOFFSETTO:+0200
TZNAME:CEST
DTSTART:20200329T010000
RRULE:FREQ=YEARLY;INTERVAL=1;BYDAY=-1SU;BYMONTH=3
END:DAYLIGHT
BEGIN:STANDARD
TZOFFSETFROM:+0200
TZOFFSETTO:+0100
TZNAME:CET
DTSTART:20201025T010000
RRULE:FREQ=YEARLY;INTERVAL=1;BYDAY=-1SU;BYMONTH=10
END:STANDARD
END:VTIMEZONE
BEGIN:VEVENT
DTSTAMP:20260423T115400Z
DTSTART:20270207T100000Z
DTEND:20270207T123000Z
LOCATION:Laeiszhalle Kleiner Saal
SUMMARY:Symphoniker Hamburg / Chamber Concert
DESCRIPTION:Performers\nHovhannes Baghdasaryan: violin\nSebastian Mirow: v
 ioloncello\nOlena Kushpler: piano\n\nProgramme\nLudwig van Beethoven\nPian
 o Trio in D major\, Op. 70/1 »Ghost«\nFelix Mendelssohn Bartholdy\nPiano
  Trio in C minor\, Op. 66\n– Interval – \nDmitri Schostakowitsch\nPian
 o Trio No. 2 in E minor\, Op. 67
UID:event28081@Elbphilharmonie.de
URL:https://www.elbphilharmonie.de/en/whats-on/symphoniker-hamburg-chamber
 -concert/28081
END:VEVENT
END:VCALENDAR
