BEGIN:VCALENDAR
METHOD:PUBLISH
CALSCALE:GREGORIAN
PRODID:Elbphilharmonie
VERSION:2.0
BEGIN:VTIMEZONE
TZID:Europe/Berlin
BEGIN:DAYLIGHT
TZOFFSETFROM:+0100
TZOFFSETTO:+0200
TZNAME:CEST
DTSTART:20200329T010000
RRULE:FREQ=YEARLY;INTERVAL=1;BYDAY=-1SU;BYMONTH=3
END:DAYLIGHT
BEGIN:STANDARD
TZOFFSETFROM:+0200
TZOFFSETTO:+0100
TZNAME:CET
DTSTART:20201025T010000
RRULE:FREQ=YEARLY;INTERVAL=1;BYDAY=-1SU;BYMONTH=10
END:STANDARD
END:VTIMEZONE
BEGIN:VEVENT
DTSTAMP:20260423T115400Z
DTSTART:20261217T183000Z
DTEND:20261217T210000Z
LOCATION:Laeiszhalle Kleiner Saal
SUMMARY:Symphoniker Hamburg / Chamber Concert
DESCRIPTION:Performers\nSatoko Koike: violin\nMariko Miwa: violin\nHsiang-
 Hsiang Tsai: viola\nSebastian Mirow: violoncello\nJoão Vargas: double bas
 s\nPéter Gulyka: french horn\nMatthias Secker: bassoon\nFrederik Virsik: 
 clarinet\n\nProgramme\nJoseph Haydn\nSymphony in F-sharp minor\, Hob. I:45
  »Farewell Symphony« / Arrangement für gemischtes Oktett von Ulf-Guido 
 Schäfer\n– Interval – \nFranz Schubert\nOctet in F major\, D 803
UID:event28080@Elbphilharmonie.de
URL:https://www.elbphilharmonie.de/en/whats-on/symphoniker-hamburg-chamber
 -concert/28080
END:VEVENT
END:VCALENDAR
