BEGIN:VCALENDAR
METHOD:PUBLISH
CALSCALE:GREGORIAN
PRODID:Elbphilharmonie
VERSION:2.0
BEGIN:VTIMEZONE
TZID:Europe/Berlin
BEGIN:DAYLIGHT
TZOFFSETFROM:+0100
TZOFFSETTO:+0200
TZNAME:CEST
DTSTART:20200329T010000
RRULE:FREQ=YEARLY;INTERVAL=1;BYDAY=-1SU;BYMONTH=3
END:DAYLIGHT
BEGIN:STANDARD
TZOFFSETFROM:+0200
TZOFFSETTO:+0100
TZNAME:CET
DTSTART:20201025T010000
RRULE:FREQ=YEARLY;INTERVAL=1;BYDAY=-1SU;BYMONTH=10
END:STANDARD
END:VTIMEZONE
BEGIN:VEVENT
DTSTAMP:20260423T181800Z
DTSTART:20270401T173000Z
DTEND:20270401T203000Z
LOCATION:Laeiszhalle Großer Saal
SUMMARY:Symphoniker Hamburg / Benjamin Beilman / Sylvain Cambreling
DESCRIPTION:Performers\nSymphoniker Hamburg\nBenjamin Beilman: violin\ncon
 ductor: Sylvain Cambreling\n\nProgramme\nJohannes Brahms\nConcerto for Vio
 lin and Orchestra in D major\, Op. 77\n– Interval – \nRobert Schumann\
 nSymphony No. 4 in D minor\, Op. 120
UID:event28058@Elbphilharmonie.de
URL:https://www.elbphilharmonie.de/en/whats-on/symphoniker-hamburg-benjami
 n-beilman-sylvain-cambreling/28058
END:VEVENT
END:VCALENDAR
