BEGIN:VCALENDAR
METHOD:PUBLISH
CALSCALE:GREGORIAN
PRODID:Elbphilharmonie
VERSION:2.0
BEGIN:VTIMEZONE
TZID:Europe/Berlin
BEGIN:DAYLIGHT
TZOFFSETFROM:+0100
TZOFFSETTO:+0200
TZNAME:CEST
DTSTART:20200329T010000
RRULE:FREQ=YEARLY;INTERVAL=1;BYDAY=-1SU;BYMONTH=3
END:DAYLIGHT
BEGIN:STANDARD
TZOFFSETFROM:+0200
TZOFFSETTO:+0100
TZNAME:CET
DTSTART:20201025T010000
RRULE:FREQ=YEARLY;INTERVAL=1;BYDAY=-1SU;BYMONTH=10
END:STANDARD
END:VTIMEZONE
BEGIN:VEVENT
DTSTAMP:20260424T114400Z
DTSTART:20261231T150000Z
DTEND:20261231T170000Z
LOCATION:Laeiszhalle Großer Saal
SUMMARY:Symphoniker Hamburg / Alexander Briger
DESCRIPTION:Performers\nCPE.Bach.Chor.Hamburg\nSymphoniker Hamburg\nMandy 
 Fredrich: soprano\nSophie Harmsen: alto\nAJ Glueckert: tenor\nTobias Schab
 el: bass\nAlexander Briger: conductor\n\nProgramme\nLudwig van Beethoven\n
 Symphony No. 9 in D minor\, Op. 125
UID:event28074@Elbphilharmonie.de
URL:https://www.elbphilharmonie.de/en/whats-on/symphoniker-hamburg-alexand
 er-briger/28074
END:VEVENT
END:VCALENDAR
