BEGIN:VCALENDAR
METHOD:PUBLISH
CALSCALE:GREGORIAN
PRODID:Elbphilharmonie
VERSION:2.0
BEGIN:VTIMEZONE
TZID:Europe/Berlin
BEGIN:DAYLIGHT
TZOFFSETFROM:+0100
TZOFFSETTO:+0200
TZNAME:CEST
DTSTART:20200329T010000
RRULE:FREQ=YEARLY;INTERVAL=1;BYDAY=-1SU;BYMONTH=3
END:DAYLIGHT
BEGIN:STANDARD
TZOFFSETFROM:+0200
TZOFFSETTO:+0100
TZNAME:CET
DTSTART:20201025T010000
RRULE:FREQ=YEARLY;INTERVAL=1;BYDAY=-1SU;BYMONTH=10
END:STANDARD
END:VTIMEZONE
BEGIN:VEVENT
DTSTAMP:20260423T115400Z
DTSTART:20261011T170000Z
DTEND:20261011T200000Z
LOCATION:Laeiszhalle Großer Saal
SUMMARY:Symphoniker Hamburg / Adrian Iliescu / Miguel Sepúlveda
DESCRIPTION:Performers\nSymphoniker Hamburg\nAdrian Iliescu: violin\ncondu
 ctor: Miguel Sepúlveda\n\nProgramme\nLudwig van Beethoven\nLeonoren-Ouver
 türe Nr. 3 op. 72b\nKurt Weill\nKonzert für Violine und Blasorchester o
 p. 12\n– Interval – \nSergej Rachmaninow\nSymphonic Dances\, Op. 45
UID:event28045@Elbphilharmonie.de
URL:https://www.elbphilharmonie.de/en/whats-on/symphoniker-hamburg-adrian-
 iliescu-miguel-sepulveda/28045
END:VEVENT
END:VCALENDAR
