BEGIN:VCALENDAR
METHOD:PUBLISH
CALSCALE:GREGORIAN
PRODID:Elbphilharmonie
VERSION:2.0
BEGIN:VTIMEZONE
TZID:Europe/Berlin
BEGIN:DAYLIGHT
TZOFFSETFROM:+0100
TZOFFSETTO:+0200
TZNAME:CEST
DTSTART:20200329T010000
RRULE:FREQ=YEARLY;INTERVAL=1;BYDAY=-1SU;BYMONTH=3
END:DAYLIGHT
BEGIN:STANDARD
TZOFFSETFROM:+0200
TZOFFSETTO:+0100
TZNAME:CET
DTSTART:20201025T010000
RRULE:FREQ=YEARLY;INTERVAL=1;BYDAY=-1SU;BYMONTH=10
END:STANDARD
END:VTIMEZONE
BEGIN:VEVENT
DTSTAMP:20260423T121100Z
DTSTART:20270207T190000Z
DTEND:20270207T201500Z
LOCATION:Elbphilharmonie Großer Saal
SUMMARY:SWR Symphonieorchester / Rei Nakamura / Bas Wiegers
DESCRIPTION:Performers\nSWR Symphonieorchester\nRei Nakamura: piano\ncondu
 ctor: Bas Wiegers\n\nProgramme\nKlaus Lang\nNeues Klavierkonzert\nAgata Zu
 bel\nOutside the Realm of Time für Hologramm-Solistin und Orchester
UID:event28172@Elbphilharmonie.de
URL:https://www.elbphilharmonie.de/en/whats-on/swr-symphonieorchester-rei-
 nakamura-bas-wiegers/28172
END:VEVENT
END:VCALENDAR
