BEGIN:VCALENDAR
METHOD:PUBLISH
CALSCALE:GREGORIAN
PRODID:Elbphilharmonie
VERSION:2.0
BEGIN:VTIMEZONE
TZID:Europe/Berlin
BEGIN:DAYLIGHT
TZOFFSETFROM:+0100
TZOFFSETTO:+0200
TZNAME:CEST
DTSTART:20200329T010000
RRULE:FREQ=YEARLY;INTERVAL=1;BYDAY=-1SU;BYMONTH=3
END:DAYLIGHT
BEGIN:STANDARD
TZOFFSETFROM:+0200
TZOFFSETTO:+0100
TZNAME:CET
DTSTART:20201025T010000
RRULE:FREQ=YEARLY;INTERVAL=1;BYDAY=-1SU;BYMONTH=10
END:STANDARD
END:VTIMEZONE
BEGIN:VEVENT
DTSTAMP:20260423T121100Z
DTSTART:20270308T190000Z
DTEND:20270308T213000Z
LOCATION:Laeiszhalle Kleiner Saal
SUMMARY:Stefan Dohr / Christian Tetzlaff / Kirill Gerstein
DESCRIPTION:Performers\nStefan Dohr: french horn\nChristian Tetzlaff: viol
 in\nKirill Gerstein: piano\n\nProgramme\nJohannes Brahms\nSonata for Violi
 n and Piano in D minor\, Op. 108\nGyörgy Ligeti\nTrio für Violine\, Horn
  und Klavier\n– Interval – \nGyörgy Kurtág\nTre pezzi für Violine u
 nd Klavier op. 14e\nJohannes Brahms\nTrio for Violin\, Horn\, and Piano i
 n E-flat Major\, Op. 40
UID:event28139@Elbphilharmonie.de
URL:https://www.elbphilharmonie.de/en/whats-on/stefan-dohr-christian-tetzl
 aff-kirill-gerstein/28139
END:VEVENT
END:VCALENDAR
