BEGIN:VCALENDAR
METHOD:PUBLISH
CALSCALE:GREGORIAN
PRODID:Elbphilharmonie
VERSION:2.0
BEGIN:VTIMEZONE
TZID:Europe/Berlin
BEGIN:DAYLIGHT
TZOFFSETFROM:+0100
TZOFFSETTO:+0200
TZNAME:CEST
DTSTART:20200329T010000
RRULE:FREQ=YEARLY;INTERVAL=1;BYDAY=-1SU;BYMONTH=3
END:DAYLIGHT
BEGIN:STANDARD
TZOFFSETFROM:+0200
TZOFFSETTO:+0100
TZNAME:CET
DTSTART:20201025T010000
RRULE:FREQ=YEARLY;INTERVAL=1;BYDAY=-1SU;BYMONTH=10
END:STANDARD
END:VTIMEZONE
BEGIN:VEVENT
DTSTAMP:20260423T195400Z
DTSTART:20270406T173000Z
DTEND:20270406T193000Z
LOCATION:Elbphilharmonie Kleiner Saal
SUMMARY:Sitkovetsky-Trio
DESCRIPTION:Performers\nSitkovetsky Trio\nAlexander Sitkovetsky: violin\nI
 sang Enders: violoncello\nQian Wu: piano\n\nProgramme\nLudwig van Beethove
 n\nPiano Trio in D major\, Op. 70/1 »Ghost«\nCécile Chaminade\nPiano Tr
 io No. 2\, Op. 34\n– Interval – \nMahdis Kashani\nKlaviertrio\nMaurice
  Ravel\nPiano Trio in A minor
UID:event28007@Elbphilharmonie.de
URL:https://www.elbphilharmonie.de/en/whats-on/sitkovetsky-trio/28007
END:VEVENT
END:VCALENDAR
