BEGIN:VCALENDAR
METHOD:PUBLISH
CALSCALE:GREGORIAN
PRODID:Elbphilharmonie
VERSION:2.0
BEGIN:VTIMEZONE
TZID:Europe/Berlin
BEGIN:DAYLIGHT
TZOFFSETFROM:+0100
TZOFFSETTO:+0200
TZNAME:CEST
DTSTART:20200329T010000
RRULE:FREQ=YEARLY;INTERVAL=1;BYDAY=-1SU;BYMONTH=3
END:DAYLIGHT
BEGIN:STANDARD
TZOFFSETFROM:+0200
TZOFFSETTO:+0100
TZNAME:CET
DTSTART:20201025T010000
RRULE:FREQ=YEARLY;INTERVAL=1;BYDAY=-1SU;BYMONTH=10
END:STANDARD
END:VTIMEZONE
BEGIN:VEVENT
DTSTAMP:20260423T192100Z
DTSTART:20270119T190000Z
DTEND:20270119T210000Z
LOCATION:Laeiszhalle Kleiner Saal
SUMMARY:Shuteen Erdenebaatar Quartet
DESCRIPTION:Performers\nShuteen Erdenebaatar Quartet\nSimon Comté: saxoph
 one\nShuteen Erdenebaatar: piano\nNils Kugelmann: bass\nAmir Bresler: drum
 s\n\nProgramme\nRising Sun
UID:event28011@Elbphilharmonie.de
URL:https://www.elbphilharmonie.de/en/whats-on/shuteen-erdenebaatar-quarte
 t/28011
END:VEVENT
END:VCALENDAR
